BEGIN:VCALENDAR
VERSION:2.0
PRODID:-//Ingenia - ECPv5.14.1//NONSGML v1.0//EN
CALSCALE:GREGORIAN
METHOD:PUBLISH
X-WR-CALNAME:Ingenia
X-ORIGINAL-URL:https://ingenia.devfuentes.com
X-WR-CALDESC:Events for Ingenia
REFRESH-INTERVAL;VALUE=DURATION:PT1H
X-Robots-Tag:noindex
X-PUBLISHED-TTL:PT1H
BEGIN:VTIMEZONE
TZID:UTC
BEGIN:STANDARD
TZOFFSETFROM:+0000
TZOFFSETTO:+0000
TZNAME:UTC
DTSTART:20210101T000000
END:STANDARD
END:VTIMEZONE
BEGIN:VEVENT
DTSTART;TZID=UTC:20210616T190000
DTEND;TZID=UTC:20210616T200000
DTSTAMP:20260421T201431
CREATED:20210615T042123Z
LAST-MODIFIED:20210615T042222Z
UID:5239-1623870000-1623873600@ingenia.devfuentes.com
SUMMARY:FB LIVE - YO SOY VALIOSO = A CONFIANZA
DESCRIPTION:3 PUNTOS: \n\nYO SOY LO MÁS IMPORTANTE\nSI ME VALORO\, ME VALORAN\nSI CONFÍO EN MÍ\, CONFÍAN EN MÍ\n\nSHIFTER \nHERIBERTO RAMÍREZ
URL:https://ingenia.devfuentes.com/event/yo-soy-valioso-a-confianza/
ATTACH;FMTTYPE=image/jpeg:https://ingenia.devfuentes.com/wp-content/uploads/2021/06/16-jun-fb.jpg
END:VEVENT
END:VCALENDAR