BEGIN:VCALENDAR
VERSION:2.0
PRODID:-//Ingenia - ECPv5.14.1//NONSGML v1.0//EN
CALSCALE:GREGORIAN
METHOD:PUBLISH
X-WR-CALNAME:Ingenia
X-ORIGINAL-URL:https://ingenia.devfuentes.com
X-WR-CALDESC:Events for Ingenia
REFRESH-INTERVAL;VALUE=DURATION:PT1H
X-Robots-Tag:noindex
X-PUBLISHED-TTL:PT1H
BEGIN:VTIMEZONE
TZID:UTC
BEGIN:STANDARD
TZOFFSETFROM:+0000
TZOFFSETTO:+0000
TZNAME:UTC
DTSTART:20210101T000000
END:STANDARD
END:VTIMEZONE
BEGIN:VEVENT
DTSTART;VALUE=DATE:20210625
DTEND;VALUE=DATE:20210628
DTSTAMP:20260421T201527
CREATED:20210616T154745Z
LAST-MODIFIED:20210616T154745Z
UID:5301-1624579200-1624838399@ingenia.devfuentes.com
SUMMARY:POSIBILIDAD 67 MEDELLÍN
DESCRIPTION:
URL:https://ingenia.devfuentes.com/event/posibilidad-67-medellin/
LOCATION:Ingenia Medellin\, Medellín\, Colombia
ATTACH;FMTTYPE=image/jpeg:https://ingenia.devfuentes.com/wp-content/uploads/2021/06/medellin.jpg
END:VEVENT
END:VCALENDAR