BEGIN:VCALENDAR
VERSION:2.0
PRODID:-//Ingenia - ECPv5.14.1//NONSGML v1.0//EN
CALSCALE:GREGORIAN
METHOD:PUBLISH
X-WR-CALNAME:Ingenia
X-ORIGINAL-URL:https://ingenia.devfuentes.com
X-WR-CALDESC:Events for Ingenia
REFRESH-INTERVAL;VALUE=DURATION:PT1H
X-Robots-Tag:noindex
X-PUBLISHED-TTL:PT1H
BEGIN:VTIMEZONE
TZID:UTC
BEGIN:STANDARD
TZOFFSETFROM:+0000
TZOFFSETTO:+0000
TZNAME:UTC
DTSTART:20210101T000000
END:STANDARD
END:VTIMEZONE
BEGIN:VEVENT
DTSTART;VALUE=DATE:20210903
DTEND;VALUE=DATE:20210906
DTSTAMP:20260421T133329
CREATED:20210701T165448Z
LAST-MODIFIED:20210701T165448Z
UID:5497-1630627200-1630886399@ingenia.devfuentes.com
SUMMARY:POSIBILIDAD 69 MEDELLÍN
DESCRIPTION:
URL:https://ingenia.devfuentes.com/event/posibilidad-69-medellin/
LOCATION:Ingenia Medellin\, Medellín\, Colombia
END:VEVENT
END:VCALENDAR