BEGIN:VCALENDAR
VERSION:2.0
PRODID:-//Ingenia - ECPv5.14.1//NONSGML v1.0//EN
CALSCALE:GREGORIAN
METHOD:PUBLISH
X-WR-CALNAME:Ingenia
X-ORIGINAL-URL:https://ingenia.devfuentes.com
X-WR-CALDESC:Events for Ingenia
REFRESH-INTERVAL;VALUE=DURATION:PT1H
X-Robots-Tag:noindex
X-PUBLISHED-TTL:PT1H
BEGIN:VTIMEZONE
TZID:UTC
BEGIN:STANDARD
TZOFFSETFROM:+0000
TZOFFSETTO:+0000
TZNAME:UTC
DTSTART:20220101T000000
END:STANDARD
END:VTIMEZONE
BEGIN:VEVENT
DTSTART;VALUE=DATE:20220422
DTEND;VALUE=DATE:20220425
DTSTAMP:20260425T025200
CREATED:20220419T222214Z
LAST-MODIFIED:20220419T230844Z
UID:5814-1650585600-1650844799@ingenia.devfuentes.com
SUMMARY:IMPOSIBILIDAD 73
DESCRIPTION:CDMX – MÉXICO \n  \nLa segunda fase de nuestro entrenamiento ha sido diseñada para romper con las limitaciones y paradigmas que te impiden vivir en una realidad de alto impacto. \nDurante este entrenamiento\, los saltos cuánticos y los milagros se vuelven cotidianos\, dándote la posibilidad de SER IMPARABLE\, vivir en libertad y reclamar el reino de tu vida.
URL:https://ingenia.devfuentes.com/event/imposibilidad-73/
LOCATION:Ingenia CDMX\, Ciudad de México\, México
CATEGORIES:Imposibilidad
ATTACH;FMTTYPE=image/jpeg:https://ingenia.devfuentes.com/wp-content/uploads/2022/04/IMPO-CDMX.jpg
END:VEVENT
END:VCALENDAR